BEGIN:VCALENDAR
VERSION:2.0
PRODID:-//Info Jepang - ECPv4.6.24.1//NONSGML v1.0//EN
CALSCALE:GREGORIAN
METHOD:PUBLISH
X-WR-CALNAME:Info Jepang
X-ORIGINAL-URL:https://www.infojepang.net
X-WR-CALDESC:Events for Info Jepang
BEGIN:VEVENT
DTSTART;VALUE=DATE:20220326
DTEND;VALUE=DATE:20220410
DTSTAMP:20260425T170005
CREATED:20220311T035414Z
LAST-MODIFIED:20220311T041318Z
UID:19999-1648252800-1649548799@www.infojepang.net
SUMMARY:Bampaku Memorial Park Sakura 2022
DESCRIPTION:Bampaku Memorial Park atau Bampaku Kinen Koen adalah taman kota Osaka yang terletak di kota Suita\, di sisi utara kota Osaka. Letaknya 15 km dari Osaka dan dapat ditempuh dengan kereta sekitar 30 menit. Taman kota ini menjadi pusat edukasi dan rekreasi masyarakat Osaka dan sekitarnya. Saat awal musim semi\, lebih dari 3.000 pohon bunga sakura yang mekar menjadi daya tarik utama taman. Selain melihat sakura\, kita bisa menikmati sisi lain pemandangan Taman Jepang tradisional dan Taman Budaya. Berikut adalah informasi mengenai Bampaku Memorial Park 2022. \n \nBampaku Memorial Park masuk dalam 100 lokasi sakura terbagus di Jepang\, dengan lebih dari 3.000 pohon sakura dari jenis someiyoshino\, shidare zakura\, yama zakura\, dan ohsima zakura yang terkenal dengan ukurannya yang besar. Luasnya taman dan banyaknya pohon sakura membuat kita cukup nyaman dalam berjalan-jalan dan menikmati keindahan bunga sakura\, karena tidak perlu berdesakan dengan pengunjung lainnya. Jangan lupa juga berfoto di monumen unik bernama Menara Matahari yang banyak muncul di anime Jepang jaman dulu. Oh iya\, selain menikmati keindahan hanami pada siang hari\, teman-teman juga bisa melihat event iluminasi sakura yang diadakan pada malam hari. Teman-teman bisa mulai datang sekitar jam 4 atau 5 sore\, mulai berjalan-jalan\, hingga akhirnya piknik dan makan malam bersama di tengah temaram lampu iluminasi. \nSelain area taman\, di sini kita juga bisa mengunjungi National Museum of Ethnology serta dan kompleks perbelanjaan dan area makan dengan banyak pilihan restoran dengan menu beragam dan lezat. \n\nIluminasi sakura di Bampaku Memorial Park \n\nRamainya pengunjung menyaksikan hanami sakura di Bampaku Memorial Park \n\n\nSuasana iluminasi sakura di Bampaku Memorial Park \nAkses menuju Taman Bampaku Kinen Koen\nDari Stasiun Osaka\, teman-teman bisa berjalan kaki dari Osaka Station ke Umeda Station (5 menit). Dari Umeda Station\, Namba Station\, atau Tennoji naik Subway Midosuji Line menuju Senri-chuo Station. Lalu\, dari Senri-chuo Station naik Osaka Monorail sampai ke Bampaku Kinen Koen Station. Lama perjalanan sekitar 35 menit dengan ongkos 620 yen. \nCheap Hotels in Osaka [More Hotels]\nPesan sekarang\, bayar pas check in! \n\n\n     (adsbygoogle = window.adsbygoogle || []).push({});\n\nHotel Trusty Osaka Abenofrom ‎¥12683/nightClaiton Shinosaka Hotelfrom ‎¥7193/nightHotel Kansai Umedafrom ‎¥5917/nightHostel Mitsuwaya Osakafrom ¥3281/night\n(sponsored by Booking.com) \nCek Juga Objek Wisata Berikut!\nAbeno HarukasUmeda OsakaItami AirportHarvest Hill\nSumber gambar: Flickr Aapo Haapanen\, Aapo Haapanen\, Aapo Haapanen \nRecommended for you (adsbygoogle = window.adsbygoogle || []).push({}); \n\n\n     (adsbygoogle = window.adsbygoogle || []).push({});\n Bagikan artikel ini:TweetWhatsAppTelegram
URL:https://www.infojepang.net/event/bampaku-memorial-park-sakura-2022/
LOCATION:Bampaku Kinen Koen\, 5-2 Senribanpakukoen\, Suita\, Osaka Prefecture\, 565-0826\, Japan
CATEGORIES:Sakura
ATTACH;FMTTYPE=image/jpeg:https://www.infojepang.net/wp-content/uploads/Ramainya-pengunjung-menyaksikan-hanami-sakura-di-Taman-Bampaku-Kinen-Koen.jpg
END:VEVENT
END:VCALENDAR